Workbook

Sheet STUDENT DATA BASE
A1: ROLL NO | B1: STUDENT NAME | C1: FATHER NAME | D1: CLASS | E1: DOB | F1: ENGLISH | G1: HINDI | H1: MATH | I1: SCIENCE | J1: SOCIAL STUDY
A2: =ROW()+99 -> 101 | B2: RAJU SINGH | C2: AMAN SINGH | D2: 10TH | E2: 34923 | F2: 45 | G2: 82 | H2: 92 | I2: 74 | J2: 82
A3: =ROW()+99 -> 102 | B3: DIVYA BAIDYA | C3: RAMESH BAIDYA | D3: 10TH | E3: 33923 | F3: 70 | G3: 48 | H3: 51 | I3: 99 | J3: 72
A4: =ROW()+99 -> 103 | B4: JIA BHASHKAR | C4: NITIN BHASKAR | D4: 11TH | E4: 31322 | F4: 99 | G4: 41 | H4: 60 | I4: 70 | J4: 96
A5: =ROW()+99 -> 104 | B5: JAI PRAKASH SINGH | C5: RAJIV SINGH | D5: 11TH | E5: 37394 | F5: 78 | G5: 92 | H5: 72 | I5: 46 | J5: 46
A6: =ROW()+99 -> 105 | B6: ABHAY SHARMA | C6: NIRBHAY SHARMA | D6: 12TH | E6: 35256 | F6: 61 | G6: 65 | H6: 94 | I6: 96 | J6: 76
A7: =ROW()+99 -> 106 | B7: PRAMOD RAJPUT | C7: DINESH RAJPUR | D7: 10TH | E7: 36018 | F7: 62 | G7: 88 | H7: 72 | I7: 53 | J7: 48
A8: =ROW()+99 -> 107 | B8: SEEMA SHARMA | C8: KAMLESH SHARMA | D8: 12TH | E8: 37100 | F8: 92 | G8: 68 | H8: 43 | I8: 56 | J8: 89
A9: =ROW()+99 -> 108 | B9: MOHAN SAHANI | C9: SURESH SAHANI | D9: 11TH | E9: 37524 | F9: 78 | G9: 68 | H9: 47 | I9: 53 | J9: 81
A10: =ROW()+99 -> 109 | B10: ROHIT YADAV | C10: ARUN YADAV | D10: 12TH | E10: 33471 | F10: 28 | G10: 76 | H10: 22 | I10: 80 | J10: 90
A11: =ROW()+99 -> 110 | B11: FIROJ KHAN | C11: MOIN KHAN | D11: 11TH | E11: 35299 | F11: 79 | G11: 90 | H11: 40 | I11: 75 | J11: 57

Sheet Sheet2
C4: 0551-24877740 | L4: SESSION : 2024-2025
F8: REPORT CARD
C10: ROLL NO. | D10: : | E10: 102
C11: CLASS | D11: : | E11: =VLOOKUP(Sheet2!$E$10,'STUDENT DATA BASE'!$A$1:$J$11,4,0) -> 10TH
C12: STUDENT NAME | D12: : | E12: =VLOOKUP(Sheet2!$E$10,'STUDENT DATA BASE'!$A$1:$J$11,2,0) -> DIVYA BAIDYA
C13: FATHER NAME | D13: : | E13: =VLOOKUP(Sheet2!$E$10,'STUDENT DATA BASE'!$A$1:$J$11,3,0) -> RAMESH BAIDYA
C14: DATE OF BIRTH | D14: : | E14: =VLOOKUP(Sheet2!$E$10,'STUDENT DATA BASE'!$A$1:$J$11,5,0) -> 33923
P15: 0.9 | Q15: A
E16: SUBJECT | F16: TOTAL MARK | G16: PASSING MARK | H16: OBTAINED MARK | I16: PERCENTAGE | J16: PASS/FAIL | P16: 0.7 | Q16: B
E17: ENGLISH | F17: 100 | G17: 33 | H17: =VLOOKUP($E$10,'STUDENT DATA BASE'!$A$1:$J$11,MATCH(Sheet2!E17,'STUDENT DATA BASE'!$A$1:$J$1,0),0) -> 70 | I17: =H17/F17 -> 0.7 | J17: =IF(H17<G17,"fail","pass") -> pass | P17: 0.5 | Q17: C
E18: HINDI | F18: 100 | G18: 33 | H18: =VLOOKUP($E$10,'STUDENT DATA BASE'!$A$1:$J$11,MATCH(Sheet2!E18,'STUDENT DATA BASE'!$A$1:$J$1,0),0) -> 48 | I18: =H18/F18 -> 0.48 | J18: =IF(H18<G18,"fail","pass") -> pass | P18: 0.3 | Q18: D
E19: MATH | F19: 100 | G19: 33 | H19: =VLOOKUP($E$10,'STUDENT DATA BASE'!$A$1:$J$11,MATCH(Sheet2!E19,'STUDENT DATA BASE'!$A$1:$J$1,0),0) -> 51 | I19: =H19/F19 -> 0.51 | J19: =IF(H19<G19,"fail","pass") -> pass
E20: SCIENCE | F20: 100 | G20: 33 | H20: =VLOOKUP($E$10,'STUDENT DATA BASE'!$A$1:$J$11,MATCH(Sheet2!E20,'STUDENT DATA BASE'!$A$1:$J$1,0),0) -> 99 | I20: =H20/F20 -> 0.99 | J20: =IF(H20<G20,"fail","pass") -> pass
E21: SOCIAL STUDY | F21: 100 | G21: 33 | H21: =VLOOKUP($E$10,'STUDENT DATA BASE'!$A$1:$J$11,MATCH(Sheet2!E21,'STUDENT DATA BASE'!$A$1:$J$1,0),0) -> 72 | I21: =H21/F21 -> 0.72 | J21: =IF(H21<G21,"fail","pass") -> pass
I23: TOTAL MARK | J23: =SUM(F17:F21) -> 500
E24: FINAL RESULTS | F24: =IF(J25>50%,"PASS","FAIL") -> PASS | I24: OBTAINED MARK | J24: =SUM(H17:H21) -> 340
E25: GRADE | F25: =IF(J25>=90%,"A",IF(J25>=70%,"B",IF(J25>=50%,"C",IF(J25>=30%,"D")))) -> C | I25: PERCENTAGE | J25: =J24/J23 -> 0.68
